BEGIN:VCALENDAR
VERSION:2.0
PRODID:-//wp-events-plugin.com//7.2.3.1//EN
TZID:America/New_York
X-WR-TIMEZONE:America/New_York
BEGIN:VEVENT
UID:23224@southfloridacountrymusic.com
DTSTART;TZID=America/New_York:20260314T190000
DTEND;TZID=America/New_York:20260314T190000
DTSTAMP:20260108T184925Z
URL:https://www.southfloridacountrymusic.com/events/zach-bryan-caamp-j-r-c
 arroll-tampa/
SUMMARY:Zach Bryan\, Caamp\, J.R. Carroll - Tampa
DESCRIPTION:
CATEGORIES:Concerts
LOCATION:Raymond James Stadium\, 4201 N Dale Mabry Hwy\, Tampa\, FL\, 33607
 \, United States
GEO:27.97871;-82.50297799999998
X-APPLE-STRUCTURED-LOCATION;VALUE=URI;X-ADDRESS=4201 N Dale Mabry Hwy\, Tam
 pa\, FL\, 33607\, United States;X-APPLE-RADIUS=100;X-TITLE=Raymond James S
 tadium:geo:27.97871,-82.50297799999998
END:VEVENT
BEGIN:VTIMEZONE
TZID:America/New_York
X-LIC-LOCATION:America/New_York
BEGIN:DAYLIGHT
DTSTART:20260308T030000
TZOFFSETFROM:-0500
TZOFFSETTO:-0400
TZNAME:EDT
END:DAYLIGHT
END:VTIMEZONE
END:VCALENDAR