BEGIN:VCALENDAR
VERSION:2.0
PRODID:-//wp-events-plugin.com//7.2.3.1//EN
TZID:America/New_York
X-WR-TIMEZONE:America/New_York
BEGIN:VEVENT
UID:23472@southfloridacountrymusic.com
DTSTART;TZID=America/New_York;VALUE=DATE:20260519
DTEND;TZID=America/New_York;VALUE=DATE:20260520
DTSTAMP:20260407T164034Z
URL:https://www.southfloridacountrymusic.com/events/willie-nelson-pompano-
 beach/
SUMMARY:Willie Nelson - Pompano Beach
DESCRIPTION:
ATTACH;FMTTYPE=image/jpeg:https://www.southfloridacountrymusic.com/wp-cont
 ent/uploads/2026/04/0519-Willie-Nelson.jpg
CATEGORIES:Concerts
LOCATION:Pompano Beach Amphitheater\, 1801 NE 6th St\, Pompano Beach\, FL\,
  33060\, United States
GEO:26.2381066;-80.10523940000002
X-APPLE-STRUCTURED-LOCATION;VALUE=URI;X-ADDRESS=1801 NE 6th St\, Pompano Be
 ach\, FL\, 33060\, United States;X-APPLE-RADIUS=100;X-TITLE=Pompano Beach 
 Amphitheater:geo:26.2381066,-80.10523940000002
END:VEVENT
BEGIN:VTIMEZONE
TZID:America/New_York
X-LIC-LOCATION:America/New_York
BEGIN:DAYLIGHT
DTSTART:20260308T030000
TZOFFSETFROM:-0500
TZOFFSETTO:-0400
TZNAME:EDT
END:DAYLIGHT
END:VTIMEZONE
END:VCALENDAR