BEGIN:VCALENDAR
VERSION:2.0
PRODID:-//wp-events-plugin.com//7.2.3.1//EN
TZID:America/New_York
X-WR-TIMEZONE:America/New_York
BEGIN:VEVENT
UID:23228@southfloridacountrymusic.com
DTSTART;TZID=America/New_York;VALUE=DATE:20260626
DTEND;TZID=America/New_York;VALUE=DATE:20260627
DTSTAMP:20260112T191902Z
URL:https://www.southfloridacountrymusic.com/events/vince-gill-sarasota/
SUMMARY:Vince Gill - Sarasota
DESCRIPTION:
ATTACH;FMTTYPE=image/jpeg:https://www.southfloridacountrymusic.com/wp-cont
 ent/uploads/2026/01/0626-Vince-Gill.jpg
CATEGORIES:Concerts
LOCATION:Van Wezel Performing Arts Center\, 777 N Tamiami Tr\, Sarasota\, F
 L\, 34236\, United States
GEO:27.3427634;-82.55039469999997
X-APPLE-STRUCTURED-LOCATION;VALUE=URI;X-ADDRESS=777 N Tamiami Tr\, Sarasota
 \, FL\, 34236\, United States;X-APPLE-RADIUS=100;X-TITLE=Van Wezel Perform
 ing Arts Center:geo:27.3427634,-82.55039469999997
END:VEVENT
BEGIN:VTIMEZONE
TZID:America/New_York
X-LIC-LOCATION:America/New_York
BEGIN:DAYLIGHT
DTSTART:20260308T030000
TZOFFSETFROM:-0500
TZOFFSETTO:-0400
TZNAME:EDT
END:DAYLIGHT
END:VTIMEZONE
END:VCALENDAR