BEGIN:VCALENDAR
VERSION:2.0
PRODID:-//wp-events-plugin.com//7.2.3.1//EN
TZID:America/New_York
X-WR-TIMEZONE:America/New_York
BEGIN:VEVENT
UID:23237@southfloridacountrymusic.com
DTSTART;TZID=America/New_York;VALUE=DATE:20260618
DTEND;TZID=America/New_York;VALUE=DATE:20260619
DTSTAMP:20260114T025405Z
URL:https://www.southfloridacountrymusic.com/events/vince-gill-orlando/
SUMMARY:Vince Gill - Orlando
DESCRIPTION:
ATTACH;FMTTYPE=image/jpeg:https://www.southfloridacountrymusic.com/wp-cont
 ent/uploads/2026/01/0618-Vince-Gill.jpg
CATEGORIES:Concerts
LOCATION:Dr. Phillips Center for the Performing Arts\, 445 S Magnolia Ave\,
  Orlando\, FL\, 32801\, United States
GEO:28.5375795;-81.37688880000002
X-APPLE-STRUCTURED-LOCATION;VALUE=URI;X-ADDRESS=445 S Magnolia Ave\, Orland
 o\, FL\, 32801\, United States;X-APPLE-RADIUS=100;X-TITLE=Dr. Phillips Cen
 ter for the Performing Arts:geo:28.5375795,-81.37688880000002
END:VEVENT
BEGIN:VTIMEZONE
TZID:America/New_York
X-LIC-LOCATION:America/New_York
BEGIN:DAYLIGHT
DTSTART:20260308T030000
TZOFFSETFROM:-0500
TZOFFSETTO:-0400
TZNAME:EDT
END:DAYLIGHT
END:VTIMEZONE
END:VCALENDAR