BEGIN:VCALENDAR
VERSION:2.0
PRODID:-//wp-events-plugin.com//7.2.3.1//EN
TZID:America/New_York
X-WR-TIMEZONE:America/New_York
BEGIN:VEVENT
UID:22315@southfloridacountrymusic.com
DTSTART;TZID=America/New_York:20260221T190000
DTEND;TZID=America/New_York:20260221T190000
DTSTAMP:20251120T175339Z
URL:https://www.southfloridacountrymusic.com/events/tucker-wetmore-dasha-o
 keechobee/
SUMMARY:Tucker Wetmore\, Dasha - Okeechobee
DESCRIPTION:
ATTACH;FMTTYPE=image/jpeg:https://www.southfloridacountrymusic.com/wp-cont
 ent/uploads/2025/11/0221-Tucker-Wetmore-Dasha.png
CATEGORIES:Concerts,Events,Festivals
LOCATION:Brighton Field Day Festival\, 17400 Sports Complex Rd NE\, Okeecho
 bee\, FL\, 34974\, United States
X-APPLE-STRUCTURED-LOCATION;VALUE=URI;X-ADDRESS=17400 Sports Complex Rd NE\
 , Okeechobee\, FL\, 34974\, United States;X-APPLE-RADIUS=100;X-TITLE=Brigh
 ton Field Day Festival:geo:0,0
END:VEVENT
BEGIN:VTIMEZONE
TZID:America/New_York
X-LIC-LOCATION:America/New_York
BEGIN:STANDARD
DTSTART:20251102T010000
TZOFFSETFROM:-0400
TZOFFSETTO:-0500
TZNAME:EST
END:STANDARD
END:VTIMEZONE
END:VCALENDAR