BEGIN:VCALENDAR
VERSION:2.0
PRODID:-//wp-events-plugin.com//7.2.3.1//EN
TZID:America/New_York
X-WR-TIMEZONE:America/New_York
BEGIN:VEVENT
UID:21966@southfloridacountrymusic.com
DTSTART;TZID=America/New_York;VALUE=DATE:20260412
DTEND;TZID=America/New_York;VALUE=DATE:20260413
DTSTAMP:20250710T163143Z
URL:https://www.southfloridacountrymusic.com/events/t-g-sheppard-winter-ha
 ven/
SUMMARY:T.G. Sheppard - Winter Haven
DESCRIPTION:
CATEGORIES:Concerts
LOCATION:Tanners Lakeside\, 1006 Lake Howard Dr SW\, Winter Haven\, FL\, 33
 880\, United States
X-APPLE-STRUCTURED-LOCATION;VALUE=URI;X-ADDRESS=1006 Lake Howard Dr SW\, Wi
 nter Haven\, FL\, 33880\, United States;X-APPLE-RADIUS=100;X-TITLE=Tanners
  Lakeside:geo:0,0
END:VEVENT
BEGIN:VTIMEZONE
TZID:America/New_York
X-LIC-LOCATION:America/New_York
BEGIN:DAYLIGHT
DTSTART:20260308T030000
TZOFFSETFROM:-0500
TZOFFSETTO:-0400
TZNAME:EDT
END:DAYLIGHT
END:VTIMEZONE
END:VCALENDAR