BEGIN:VCALENDAR
VERSION:2.0
PRODID:-//wp-events-plugin.com//7.2.3.1//EN
TZID:America/New_York
X-WR-TIMEZONE:America/New_York
BEGIN:VEVENT
UID:22202@southfloridacountrymusic.com
DTSTART;TZID=America/New_York:20260313T190000
DTEND;TZID=America/New_York:20260313T190000
DTSTAMP:20251021T030132Z
URL:https://www.southfloridacountrymusic.com/events/suzy-bogguss-weirsdale
 /
SUMMARY:Suzy Bogguss - Weirsdale
DESCRIPTION:
CATEGORIES:Concerts
LOCATION:Orange Blossom Opry\, 16439 SE 138th Terr\, Weirsdale\, FL\, 32195
 \, United States
GEO:28.982967;-81.922075
X-APPLE-STRUCTURED-LOCATION;VALUE=URI;X-ADDRESS=16439 SE 138th Terr\, Weirs
 dale\, FL\, 32195\, United States;X-APPLE-RADIUS=100;X-TITLE=Orange Blosso
 m Opry:geo:28.982967,-81.922075
END:VEVENT
BEGIN:VTIMEZONE
TZID:America/New_York
X-LIC-LOCATION:America/New_York
BEGIN:DAYLIGHT
DTSTART:20260308T030000
TZOFFSETFROM:-0500
TZOFFSETTO:-0400
TZNAME:EDT
END:DAYLIGHT
END:VTIMEZONE
END:VCALENDAR