BEGIN:VCALENDAR
VERSION:2.0
PRODID:-//wp-events-plugin.com//7.2.3.1//EN
TZID:America/New_York
X-WR-TIMEZONE:America/New_York
BEGIN:VEVENT
UID:22248@southfloridacountrymusic.com
DTSTART;TZID=America/New_York;VALUE=DATE:20260130
DTEND;TZID=America/New_York;VALUE=DATE:20260131
DTSTAMP:20251104T040904Z
URL:https://www.southfloridacountrymusic.com/events/silverada-tampa/
SUMMARY:Silverada - Tampa
DESCRIPTION:
ATTACH;FMTTYPE=image/jpeg:https://www.southfloridacountrymusic.com/wp-cont
 ent/uploads/2025/11/0122-0130-Silverada.jpg
CATEGORIES:Concerts
LOCATION:Skipper's Smokehouse\, 910 Skipper Rd\, Tampa\, FL\, 33613\, Unite
 d States
X-APPLE-STRUCTURED-LOCATION;VALUE=URI;X-ADDRESS=910 Skipper Rd\, Tampa\, FL
 \, 33613\, United States;X-APPLE-RADIUS=100;X-TITLE=Skipper's Smokehouse:g
 eo:0,0
END:VEVENT
BEGIN:VTIMEZONE
TZID:America/New_York
X-LIC-LOCATION:America/New_York
BEGIN:STANDARD
DTSTART:20251102T010000
TZOFFSETFROM:-0400
TZOFFSETTO:-0500
TZNAME:EST
END:STANDARD
END:VTIMEZONE
END:VCALENDAR