BEGIN:VCALENDAR
VERSION:2.0
PRODID:-//wp-events-plugin.com//7.2.3.1//EN
TZID:America/New_York
X-WR-TIMEZONE:America/New_York
BEGIN:VEVENT
UID:23232@southfloridacountrymusic.com
DTSTART;TZID=America/New_York;VALUE=DATE:20260829
DTEND;TZID=America/New_York;VALUE=DATE:20260830
DTSTAMP:20260113T043829Z
URL:https://www.southfloridacountrymusic.com/events/rock-the-country-ocala
 -2-2026-08-28-2026-08-29/
SUMMARY:Rock the Country - Ocala
DESCRIPTION:
ATTACH;FMTTYPE=image/jpeg:https://www.southfloridacountrymusic.com/wp-cont
 ent/uploads/2026/01/828-829-Rock-the-Country.jpg
CATEGORIES:Concerts,Events,Featured Events
LOCATION:Florida Horse Park\, 11008 S Hwy 475\, Ocala\, FL\, 34480\, United
  States
X-APPLE-STRUCTURED-LOCATION;VALUE=URI;X-ADDRESS=11008 S Hwy 475\, Ocala\, F
 L\, 34480\, United States;X-APPLE-RADIUS=100;X-TITLE=Florida Horse Park:ge
 o:0,0
END:VEVENT
BEGIN:VTIMEZONE
TZID:America/New_York
X-LIC-LOCATION:America/New_York
BEGIN:DAYLIGHT
DTSTART:20260308T030000
TZOFFSETFROM:-0500
TZOFFSETTO:-0400
TZNAME:EDT
END:DAYLIGHT
END:VTIMEZONE
END:VCALENDAR