BEGIN:VCALENDAR
VERSION:2.0
PRODID:-//wp-events-plugin.com//7.2.3.1//EN
TZID:America/New_York
X-WR-TIMEZONE:America/New_York
BEGIN:VEVENT
UID:23324@southfloridacountrymusic.com
DTSTART;TZID=America/New_York:20260214T140000
DTEND;TZID=America/New_York:20260214T140000
DTSTAMP:20260213T194929Z
URL:https://www.southfloridacountrymusic.com/events/ricky-valido-ochopee/
SUMMARY:Ricky Valido - Ochopee
DESCRIPTION:Ricky Valido in Ochopee
ATTACH;FMTTYPE=image/jpeg:https://www.southfloridacountrymusic.com/wp-cont
 ent/uploads/2026/02/0214-Ricky-Valido.jpg
CATEGORIES:Live Local Music
LOCATION:Little Trail Casino\, 47801 W SR 84\, Ochopee\, FL\, 34141\, Unite
 d States
X-APPLE-STRUCTURED-LOCATION;VALUE=URI;X-ADDRESS=47801 W SR 84\, Ochopee\, F
 L\, 34141\, United States;X-APPLE-RADIUS=100;X-TITLE=Little Trail Casino:g
 eo:0,0
END:VEVENT
BEGIN:VTIMEZONE
TZID:America/New_York
X-LIC-LOCATION:America/New_York
BEGIN:STANDARD
DTSTART:20251102T010000
TZOFFSETFROM:-0400
TZOFFSETTO:-0500
TZNAME:EST
END:STANDARD
END:VTIMEZONE
END:VCALENDAR