BEGIN:VCALENDAR
VERSION:2.0
PRODID:-//wp-events-plugin.com//7.2.3.1//EN
TZID:America/New_York
X-WR-TIMEZONE:America/New_York
BEGIN:VEVENT
UID:23391@southfloridacountrymusic.com
DTSTART;TZID=America/New_York:20260307T190000
DTEND;TZID=America/New_York:20260307T190000
DTSTAMP:20260305T183206Z
URL:https://www.southfloridacountrymusic.com/events/ricky-valido-key-largo
 /
SUMMARY:Ricky Valido - Key Largo
DESCRIPTION:
ATTACH;FMTTYPE=image/jpeg:https://www.southfloridacountrymusic.com/wp-cont
 ent/uploads/2026/03/0307-RV.jpg
CATEGORIES:Live Local Music
LOCATION:Gilbert's Resort & Marina\, 107900 Overseas Hwy\, Key Largo\, FL\,
  33037\, United States
GEO:25.1835787;-80.38936660000002
X-APPLE-STRUCTURED-LOCATION;VALUE=URI;X-ADDRESS=107900 Overseas Hwy\, Key L
 argo\, FL\, 33037\, United States;X-APPLE-RADIUS=100;X-TITLE=Gilbert's Res
 ort & Marina:geo:25.1835787,-80.38936660000002
END:VEVENT
BEGIN:VTIMEZONE
TZID:America/New_York
X-LIC-LOCATION:America/New_York
BEGIN:STANDARD
DTSTART:20251102T010000
TZOFFSETFROM:-0400
TZOFFSETTO:-0500
TZNAME:EST
END:STANDARD
END:VTIMEZONE
END:VCALENDAR