BEGIN:VCALENDAR
VERSION:2.0
PRODID:-//wp-events-plugin.com//7.2.3.1//EN
TZID:America/New_York
X-WR-TIMEZONE:America/New_York
BEGIN:VEVENT
UID:23544@southfloridacountrymusic.com
DTSTART;TZID=America/New_York:20260417T190000
DTEND;TZID=America/New_York:20260417T190000
DTSTAMP:20260416T020007Z
URL:https://www.southfloridacountrymusic.com/events/ricky-valido-homestead
 -6/
SUMMARY:Ricky Valido - Homestead
DESCRIPTION:
ATTACH;FMTTYPE=image/jpeg:https://www.southfloridacountrymusic.com/wp-cont
 ent/uploads/2026/04/0417-Ricky-VAlido.jpg
CATEGORIES:Live Local Music
LOCATION:Redland Farmers Market\, 24801 SW 177th Ave\, Homestead\, FL\, Uni
 ted States
X-APPLE-STRUCTURED-LOCATION;VALUE=URI;X-ADDRESS=24801 SW 177th Ave\, Homest
 ead\, FL\, United States;X-APPLE-RADIUS=100;X-TITLE=Redland Farmers Market
 :geo:0,0
END:VEVENT
BEGIN:VTIMEZONE
TZID:America/New_York
X-LIC-LOCATION:America/New_York
BEGIN:DAYLIGHT
DTSTART:20260308T030000
TZOFFSETFROM:-0500
TZOFFSETTO:-0400
TZNAME:EDT
END:DAYLIGHT
END:VTIMEZONE
END:VCALENDAR