BEGIN:VCALENDAR
VERSION:2.0
PRODID:-//wp-events-plugin.com//7.2.3.1//EN
TZID:America/New_York
X-WR-TIMEZONE:America/New_York
BEGIN:VEVENT
UID:23536@southfloridacountrymusic.com
DTSTART;TZID=America/New_York:20260418T190000
DTEND;TZID=America/New_York:20260418T220000
DTSTAMP:20260413T223256Z
URL:https://www.southfloridacountrymusic.com/events/ricky-valido-homestead
 -5/
SUMMARY:Ricky Valido - Homestead
DESCRIPTION:
ATTACH;FMTTYPE=image/jpeg:https://www.southfloridacountrymusic.com/wp-cont
 ent/uploads/2026/04/0418-Ricky-Valido.jpg
CATEGORIES:Live Local Music
LOCATION:Leisure City Moose Lodge\, 15490 SW 288th St\, Homestead\, FL\, Un
 ited States
X-APPLE-STRUCTURED-LOCATION;VALUE=URI;X-ADDRESS=15490 SW 288th St\, Homeste
 ad\, FL\, United States;X-APPLE-RADIUS=100;X-TITLE=Leisure City Moose Lodg
 e:geo:0,0
END:VEVENT
BEGIN:VTIMEZONE
TZID:America/New_York
X-LIC-LOCATION:America/New_York
BEGIN:DAYLIGHT
DTSTART:20260308T030000
TZOFFSETFROM:-0500
TZOFFSETTO:-0400
TZNAME:EDT
END:DAYLIGHT
END:VTIMEZONE
END:VCALENDAR