BEGIN:VCALENDAR
VERSION:2.0
PRODID:-//wp-events-plugin.com//7.2.3.1//EN
TZID:America/New_York
X-WR-TIMEZONE:America/New_York
BEGIN:VEVENT
UID:23390@southfloridacountrymusic.com
DTSTART;TZID=America/New_York:20260306T200000
DTEND;TZID=America/New_York:20260306T200000
DTSTAMP:20260305T184004Z
URL:https://www.southfloridacountrymusic.com/events/ricky-valido-coral-gab
 les/
SUMMARY:Ricky Valido - Coral Gables
DESCRIPTION:
ATTACH;FMTTYPE=image/jpeg:https://www.southfloridacountrymusic.com/wp-cont
 ent/uploads/2026/03/0306-RV.jpg
CATEGORIES:Live Local Music
LOCATION:Titanic Restaurant & Brewery\, 5813 Ponce de Leon Blvd\, Coral Gab
 les\, FL\, 33146\, United States
GEO:25.7106099;-80.28303119999998
X-APPLE-STRUCTURED-LOCATION;VALUE=URI;X-ADDRESS=5813 Ponce de Leon Blvd\, C
 oral Gables\, FL\, 33146\, United States;X-APPLE-RADIUS=100;X-TITLE=Titani
 c Restaurant & Brewery:geo:25.7106099,-80.28303119999998
END:VEVENT
BEGIN:VTIMEZONE
TZID:America/New_York
X-LIC-LOCATION:America/New_York
BEGIN:STANDARD
DTSTART:20251102T010000
TZOFFSETFROM:-0400
TZOFFSETTO:-0500
TZNAME:EST
END:STANDARD
END:VTIMEZONE
END:VCALENDAR