BEGIN:VCALENDAR
VERSION:2.0
PRODID:-//wp-events-plugin.com//7.2.3.1//EN
TZID:America/New_York
X-WR-TIMEZONE:America/New_York
BEGIN:VEVENT
UID:23235@southfloridacountrymusic.com
DTSTART;TZID=America/New_York;VALUE=DATE:20260205
DTEND;TZID=America/New_York;VALUE=DATE:20260206
DTSTAMP:20260114T024116Z
URL:https://www.southfloridacountrymusic.com/events/ricky-valido-clewiston
 /
SUMMARY:Ricky Valido - Clewiston
DESCRIPTION:
ATTACH;FMTTYPE=image/jpeg:https://www.southfloridacountrymusic.com/wp-cont
 ent/uploads/2026/01/0205-Ricky-Valido.jpg
CATEGORIES:Live Local Music
LOCATION:Junior Cypress Rodeo Grounds\, 36500 Rodeo Circle Dr\, Clewiston\,
  FL\, 33440\, United States
GEO:26.7587185;-80.93748389999996
X-APPLE-STRUCTURED-LOCATION;VALUE=URI;X-ADDRESS=36500 Rodeo Circle Dr\, Cle
 wiston\, FL\, 33440\, United States;X-APPLE-RADIUS=100;X-TITLE=Junior Cypr
 ess Rodeo Grounds:geo:26.7587185,-80.93748389999996
END:VEVENT
BEGIN:VTIMEZONE
TZID:America/New_York
X-LIC-LOCATION:America/New_York
BEGIN:STANDARD
DTSTART:20251102T010000
TZOFFSETFROM:-0400
TZOFFSETTO:-0500
TZNAME:EST
END:STANDARD
END:VTIMEZONE
END:VCALENDAR