BEGIN:VCALENDAR
VERSION:2.0
PRODID:-//wp-events-plugin.com//7.2.3.1//EN
TZID:America/New_York
X-WR-TIMEZONE:America/New_York
BEGIN:VEVENT
UID:23566@southfloridacountrymusic.com
DTSTART;TZID=America/New_York;VALUE=DATE:20261014
DTEND;TZID=America/New_York;VALUE=DATE:20261015
DTSTAMP:20260424T194941Z
URL:https://www.southfloridacountrymusic.com/events/red-clay-strays-orland
 o/
SUMMARY:Red Clay Strays - Orlando
DESCRIPTION:
ATTACH;FMTTYPE=image/jpeg:https://www.southfloridacountrymusic.com/wp-cont
 ent/uploads/2026/04/1014-Red-Clay-Strays.jpg
CATEGORIES:Concerts
LOCATION:Kia Center\, 400 W Church St\, Orlando\, FL\, 32801\, United State
 s
X-APPLE-STRUCTURED-LOCATION;VALUE=URI;X-ADDRESS=400 W Church St\, Orlando\,
  FL\, 32801\, United States;X-APPLE-RADIUS=100;X-TITLE=Kia Center:geo:0,0
END:VEVENT
BEGIN:VTIMEZONE
TZID:America/New_York
X-LIC-LOCATION:America/New_York
BEGIN:DAYLIGHT
DTSTART:20260308T030000
TZOFFSETFROM:-0500
TZOFFSETTO:-0400
TZNAME:EDT
END:DAYLIGHT
END:VTIMEZONE
END:VCALENDAR