BEGIN:VCALENDAR
VERSION:2.0
PRODID:-//wp-events-plugin.com//7.2.3.1//EN
TZID:America/New_York
X-WR-TIMEZONE:America/New_York
BEGIN:VEVENT
UID:22036@southfloridacountrymusic.com
DTSTART;TZID=America/New_York:20260213T190000
DTEND;TZID=America/New_York:20260213T190000
DTSTAMP:20250813T164416Z
URL:https://www.southfloridacountrymusic.com/events/rascal-flatts-chris-la
 ne-lauren-alaina-tampa/
SUMMARY:Rascal Flatts\, Chris Lane\, Lauren Alaina - Tampa
DESCRIPTION:
ATTACH;FMTTYPE=image/jpeg:https://www.southfloridacountrymusic.com/wp-cont
 ent/uploads/2025/08/26-02-28-Rascal-Flatts.jpg
CATEGORIES:Concerts
LOCATION:Amalie Arena\, 401 Channelside Dr\, Tampa\, FL\, 33602\, United St
 ates
GEO:27.9425974;-82.45189249999999
X-APPLE-STRUCTURED-LOCATION;VALUE=URI;X-ADDRESS=401 Channelside Dr\, Tampa\
 , FL\, 33602\, United States;X-APPLE-RADIUS=100;X-TITLE=Amalie Arena:geo:2
 7.9425974,-82.45189249999999
END:VEVENT
BEGIN:VTIMEZONE
TZID:America/New_York
X-LIC-LOCATION:America/New_York
BEGIN:STANDARD
DTSTART:20251102T010000
TZOFFSETFROM:-0400
TZOFFSETTO:-0500
TZNAME:EST
END:STANDARD
END:VTIMEZONE
END:VCALENDAR