BEGIN:VCALENDAR
VERSION:2.0
PRODID:-//wp-events-plugin.com//7.2.3.1//EN
TZID:America/New_York
X-WR-TIMEZONE:America/New_York
BEGIN:VEVENT
UID:22370@southfloridacountrymusic.com
DTSTART;TZID=America/New_York:20260205T190000
DTEND;TZID=America/New_York:20260205T190000
DTSTAMP:20251211T181212Z
URL:https://www.southfloridacountrymusic.com/events/randall-king-fort-myer
 s/
SUMMARY:Randall King - Fort Myers
DESCRIPTION:
ATTACH;FMTTYPE=image/jpeg:https://www.southfloridacountrymusic.com/wp-cont
 ent/uploads/2025/12/0205-Randall-King.jpg
CATEGORIES:Concerts
LOCATION:The Ranch Concert Hall & Saloon\, 2158 Colonial Blvd\, Ft. Myers\,
  FL\, 33907\, United States
GEO:26.5962337;-81.86904199999998
X-APPLE-STRUCTURED-LOCATION;VALUE=URI;X-ADDRESS=2158 Colonial Blvd\, Ft. My
 ers\, FL\, 33907\, United States;X-APPLE-RADIUS=100;X-TITLE=The Ranch Conc
 ert Hall & Saloon:geo:26.5962337,-81.86904199999998
END:VEVENT
BEGIN:VTIMEZONE
TZID:America/New_York
X-LIC-LOCATION:America/New_York
BEGIN:STANDARD
DTSTART:20251102T010000
TZOFFSETFROM:-0400
TZOFFSETTO:-0500
TZNAME:EST
END:STANDARD
END:VTIMEZONE
END:VCALENDAR