BEGIN:VCALENDAR
VERSION:2.0
PRODID:-//wp-events-plugin.com//7.2.3.1//EN
TZID:America/New_York
X-WR-TIMEZONE:America/New_York
BEGIN:VEVENT
UID:22304@southfloridacountrymusic.com
DTSTART;TZID=America/New_York;VALUE=DATE:20260214
DTEND;TZID=America/New_York;VALUE=DATE:20260215
DTSTAMP:20251118T194924Z
URL:https://www.southfloridacountrymusic.com/events/palatka-bluegrass-fest
 ival-palatka-3/
SUMMARY:Palatka Bluegrass Festival - Palatka
DESCRIPTION:
ATTACH;FMTTYPE=image/jpeg:https://www.southfloridacountrymusic.com/wp-cont
 ent/uploads/2025/11/0212-0214-Palatka-Bluegrass.jpg
CATEGORIES:Concerts,Events,Festivals
LOCATION:Rodeheaver Boys' Ranch\, 380 Boys Ranch Rd\, Palatka\, FL\, 32177\
 , United States
GEO:29.5404512;-81.7116896
X-APPLE-STRUCTURED-LOCATION;VALUE=URI;X-ADDRESS=380 Boys Ranch Rd\, Palatka
 \, FL\, 32177\, United States;X-APPLE-RADIUS=100;X-TITLE=Rodeheaver Boys' 
 Ranch:geo:29.5404512,-81.7116896
END:VEVENT
BEGIN:VTIMEZONE
TZID:America/New_York
X-LIC-LOCATION:America/New_York
BEGIN:STANDARD
DTSTART:20251102T010000
TZOFFSETFROM:-0400
TZOFFSETTO:-0500
TZNAME:EST
END:STANDARD
END:VTIMEZONE
END:VCALENDAR