BEGIN:VCALENDAR
VERSION:2.0
PRODID:-//wp-events-plugin.com//7.2.3.1//EN
TZID:America/New_York
X-WR-TIMEZONE:America/New_York
BEGIN:VEVENT
UID:22348@southfloridacountrymusic.com
DTSTART;TZID=America/New_York;VALUE=DATE:20260718
DTEND;TZID=America/New_York;VALUE=DATE:20260719
DTSTAMP:20251205T172927Z
URL:https://www.southfloridacountrymusic.com/events/megan-moroney-sunrise/
SUMMARY:Megan Moroney - Sunrise
DESCRIPTION:
ATTACH;FMTTYPE=image/jpeg:https://www.southfloridacountrymusic.com/wp-cont
 ent/uploads/2025/12/0718-Megan-Moroney.jpg
CATEGORIES:Concerts
LOCATION:Amerant Bank Arena\, 1 Panther Parkway\, Sunrise\, FL\, 33323\, Un
 ited States
X-APPLE-STRUCTURED-LOCATION;VALUE=URI;X-ADDRESS=1 Panther Parkway\, Sunrise
 \, FL\, 33323\, United States;X-APPLE-RADIUS=100;X-TITLE=Amerant Bank Aren
 a:geo:0,0
END:VEVENT
BEGIN:VTIMEZONE
TZID:America/New_York
X-LIC-LOCATION:America/New_York
BEGIN:DAYLIGHT
DTSTART:20260308T030000
TZOFFSETFROM:-0500
TZOFFSETTO:-0400
TZNAME:EDT
END:DAYLIGHT
END:VTIMEZONE
END:VCALENDAR