BEGIN:VCALENDAR
VERSION:2.0
PRODID:-//wp-events-plugin.com//7.2.3.1//EN
TZID:America/New_York
X-WR-TIMEZONE:America/New_York
BEGIN:VEVENT
UID:23261@southfloridacountrymusic.com
DTSTART;TZID=America/New_York:20260424T183000
DTEND;TZID=America/New_York:20260424T183000
DTSTAMP:20260122T145829Z
URL:https://www.southfloridacountrymusic.com/events/maren-morris-orlando/
SUMMARY:Maren Morris - Orlando
DESCRIPTION:Tickets
ATTACH;FMTTYPE=image/jpeg:https://www.southfloridacountrymusic.com/wp-cont
 ent/uploads/2026/01/April-Maren-Morris.png
CATEGORIES:Concerts
LOCATION:House of Blues Orlando\, 1490 E. Buena Vista Dr\, Lake Buena Vista
 \, FL\, 32830\, United States
GEO:28.3690306;-81.5242948
X-APPLE-STRUCTURED-LOCATION;VALUE=URI;X-ADDRESS=1490 E. Buena Vista Dr\, La
 ke Buena Vista\, FL\, 32830\, United States;X-APPLE-RADIUS=100;X-TITLE=Hou
 se of Blues Orlando:geo:28.3690306,-81.5242948
END:VEVENT
BEGIN:VTIMEZONE
TZID:America/New_York
X-LIC-LOCATION:America/New_York
BEGIN:DAYLIGHT
DTSTART:20260308T030000
TZOFFSETFROM:-0500
TZOFFSETTO:-0400
TZNAME:EDT
END:DAYLIGHT
END:VTIMEZONE
END:VCALENDAR