BEGIN:VCALENDAR
VERSION:2.0
PRODID:-//wp-events-plugin.com//7.2.3.1//EN
TZID:America/New_York
X-WR-TIMEZONE:America/New_York
BEGIN:VEVENT
UID:23260@southfloridacountrymusic.com
DTSTART;TZID=America/New_York:20260423T190000
DTEND;TZID=America/New_York:20260423T190000
DTSTAMP:20260122T145650Z
URL:https://www.southfloridacountrymusic.com/events/maren-morris-miami-bea
 ch/
SUMMARY:Maren Morris - Miami Beach
DESCRIPTION:Tickets
ATTACH;FMTTYPE=image/jpeg:https://www.southfloridacountrymusic.com/wp-cont
 ent/uploads/2026/01/April-Maren-Morris.png
CATEGORIES:Concerts
LOCATION:The Fillmore Miami Beach at The Jackie Gleason Theater\, 1700 Wash
 ington Ave\, Miami Beach\, FL\, 33139\, United States
GEO:25.7929317;-80.13324920000002
X-APPLE-STRUCTURED-LOCATION;VALUE=URI;X-ADDRESS=1700 Washington Ave\, Miami
  Beach\, FL\, 33139\, United States;X-APPLE-RADIUS=100;X-TITLE=The Fillmor
 e Miami Beach at The Jackie Gleason Theater:geo:25.7929317,-80.13324920000
 002
END:VEVENT
BEGIN:VTIMEZONE
TZID:America/New_York
X-LIC-LOCATION:America/New_York
BEGIN:DAYLIGHT
DTSTART:20260308T030000
TZOFFSETFROM:-0500
TZOFFSETTO:-0400
TZNAME:EDT
END:DAYLIGHT
END:VTIMEZONE
END:VCALENDAR