BEGIN:VCALENDAR
VERSION:2.0
PRODID:-//wp-events-plugin.com//7.2.3.1//EN
TZID:America/New_York
X-WR-TIMEZONE:America/New_York
BEGIN:VEVENT
UID:23292@southfloridacountrymusic.com
DTSTART;TZID=America/New_York:20260307T190000
DTEND;TZID=America/New_York:20260307T190000
DTSTAMP:20260129T172419Z
URL:https://www.southfloridacountrymusic.com/events/maddie-tae-orlando/
SUMMARY:Maddie & Tae - Orlando
DESCRIPTION:
ATTACH;FMTTYPE=image/jpeg:https://www.southfloridacountrymusic.com/wp-cont
 ent/uploads/2026/01/0307-Maddie-Tae.webp
CATEGORIES:Concerts
LOCATION:Sea World\, 7007 Sea World Dr\, Orlando\, FL\, 32821\, United Stat
 es
GEO:28.4118718;-81.45950959999999
X-APPLE-STRUCTURED-LOCATION;VALUE=URI;X-ADDRESS=7007 Sea World Dr\, Orlando
 \, FL\, 32821\, United States;X-APPLE-RADIUS=100;X-TITLE=Sea World:geo:28.
 4118718,-81.45950959999999
END:VEVENT
BEGIN:VTIMEZONE
TZID:America/New_York
X-LIC-LOCATION:America/New_York
BEGIN:STANDARD
DTSTART:20251102T010000
TZOFFSETFROM:-0400
TZOFFSETTO:-0500
TZNAME:EST
END:STANDARD
END:VTIMEZONE
END:VCALENDAR