BEGIN:VCALENDAR
VERSION:2.0
PRODID:-//wp-events-plugin.com//7.2.3.1//EN
TZID:America/New_York
X-WR-TIMEZONE:America/New_York
BEGIN:VEVENT
UID:23268@southfloridacountrymusic.com
DTSTART;TZID=America/New_York;VALUE=DATE:20260910
DTEND;TZID=America/New_York;VALUE=DATE:20260911
DTSTAMP:20260123T173622Z
URL:https://www.southfloridacountrymusic.com/events/luke-bryan-lauren-watk
 ins-lanie-gardner-randall-king-dj-rock-tampa/
SUMMARY:Luke Bryan\, Lauren Watkins\, Lanie Gardner\, Randall King\, DJ Roc
 k - Tampa
DESCRIPTION:
ATTACH;FMTTYPE=image/jpeg:https://www.southfloridacountrymusic.com/wp-cont
 ent/uploads/2026/01/0910-Luke-Bryan-Tampa.jpg
CATEGORIES:Concerts
LOCATION:MIDFLORIDA Credit Union Amphitheatre\, 4802 N US HWY 301\, Tampa\,
  FL\, 33610\, United States
GEO:27.993555;-82.36464999999998
X-APPLE-STRUCTURED-LOCATION;VALUE=URI;X-ADDRESS=4802 N US HWY 301\, Tampa\,
  FL\, 33610\, United States;X-APPLE-RADIUS=100;X-TITLE=MIDFLORIDA Credit U
 nion Amphitheatre:geo:27.993555,-82.36464999999998
END:VEVENT
BEGIN:VTIMEZONE
TZID:America/New_York
X-LIC-LOCATION:America/New_York
BEGIN:DAYLIGHT
DTSTART:20260308T030000
TZOFFSETFROM:-0500
TZOFFSETTO:-0400
TZNAME:EDT
END:DAYLIGHT
END:VTIMEZONE
END:VCALENDAR