BEGIN:VCALENDAR
VERSION:2.0
PRODID:-//wp-events-plugin.com//7.2.3.1//EN
TZID:America/New_York
X-WR-TIMEZONE:America/New_York
BEGIN:VEVENT
UID:22337@southfloridacountrymusic.com
DTSTART;TZID=America/New_York:20260228T200000
DTEND;TZID=America/New_York:20260228T200000
DTSTAMP:20251203T183946Z
URL:https://www.southfloridacountrymusic.com/events/larry-fleet-tampa/
SUMMARY:Larry Fleet - Tampa
DESCRIPTION:
ATTACH;FMTTYPE=image/jpeg:https://www.southfloridacountrymusic.com/wp-cont
 ent/uploads/2025/12/0228-Larry-Fleet.png
CATEGORIES:Concerts
LOCATION:Tampa Theatre\, 711 N Franklin St\, Tampa\, FL\, United States
X-APPLE-STRUCTURED-LOCATION;VALUE=URI;X-ADDRESS=711 N Franklin St\, Tampa\,
  FL\, United States;X-APPLE-RADIUS=100;X-TITLE=Tampa Theatre:geo:0,0
END:VEVENT
BEGIN:VTIMEZONE
TZID:America/New_York
X-LIC-LOCATION:America/New_York
BEGIN:STANDARD
DTSTART:20251102T010000
TZOFFSETFROM:-0400
TZOFFSETTO:-0500
TZNAME:EST
END:STANDARD
END:VTIMEZONE
END:VCALENDAR