BEGIN:VCALENDAR
VERSION:2.0
PRODID:-//wp-events-plugin.com//7.2.3.1//EN
TZID:America/New_York
X-WR-TIMEZONE:America/New_York
BEGIN:VEVENT
UID:23255@southfloridacountrymusic.com
DTSTART;TZID=America/New_York:20260123T190000
DTEND;TZID=America/New_York:20260123T190000
DTSTAMP:20260121T225530Z
URL:https://www.southfloridacountrymusic.com/events/karaoke-w-bryan-k-buch
 anan-interlachen/
SUMMARY:Karaoke w/ Bryan K Buchanan - Interlachen
DESCRIPTION:
ATTACH;FMTTYPE=image/jpeg:https://www.southfloridacountrymusic.com/wp-cont
 ent/uploads/2018/12/Bryan-Keith-Buchanan-2.jpg
CATEGORIES:Live Local Music
LOCATION:Interlachen VFW\, 1034 Hwy 20\, Interlachen\, FL\, 32148\, United 
 States
X-APPLE-STRUCTURED-LOCATION;VALUE=URI;X-ADDRESS=1034 Hwy 20\, Interlachen\,
  FL\, 32148\, United States;X-APPLE-RADIUS=100;X-TITLE=Interlachen VFW:geo
 :0,0
END:VEVENT
BEGIN:VTIMEZONE
TZID:America/New_York
X-LIC-LOCATION:America/New_York
BEGIN:STANDARD
DTSTART:20251102T010000
TZOFFSETFROM:-0400
TZOFFSETTO:-0500
TZNAME:EST
END:STANDARD
END:VTIMEZONE
END:VCALENDAR