BEGIN:VCALENDAR
VERSION:2.0
PRODID:-//wp-events-plugin.com//7.2.3.1//EN
TZID:America/New_York
X-WR-TIMEZONE:America/New_York
BEGIN:VEVENT
UID:23300@southfloridacountrymusic.com
DTSTART;TZID=America/New_York:20260313T190000
DTEND;TZID=America/New_York:20260313T190000
DTSTAMP:20260204T030556Z
URL:https://www.southfloridacountrymusic.com/events/justin-moore-sanford/
SUMMARY:Justin Moore - Sanford
DESCRIPTION:
ATTACH;FMTTYPE=image/jpeg:https://www.southfloridacountrymusic.com/wp-cont
 ent/uploads/2026/02/0313-Justin-Moore.jpg
CATEGORIES:Concerts
LOCATION:The Barn\, 1200 S French Ave\, Sanford\, FL\, United States
GEO:28.80145899999999;-81.27339
X-APPLE-STRUCTURED-LOCATION;VALUE=URI;X-ADDRESS=1200 S French Ave\, Sanford
 \, FL\, United States;X-APPLE-RADIUS=100;X-TITLE=The Barn:geo:28.801458999
 99999,-81.27339
END:VEVENT
BEGIN:VTIMEZONE
TZID:America/New_York
X-LIC-LOCATION:America/New_York
BEGIN:DAYLIGHT
DTSTART:20260308T030000
TZOFFSETFROM:-0500
TZOFFSETTO:-0400
TZNAME:EDT
END:DAYLIGHT
END:VTIMEZONE
END:VCALENDAR