BEGIN:VCALENDAR
VERSION:2.0
PRODID:-//wp-events-plugin.com//7.2.3.1//EN
TZID:America/New_York
X-WR-TIMEZONE:America/New_York
BEGIN:VEVENT
UID:22085@southfloridacountrymusic.com
DTSTART;TZID=America/New_York;VALUE=DATE:20260116
DTEND;TZID=America/New_York;VALUE=DATE:20260117
DTSTAMP:20250827T164303Z
URL:https://www.southfloridacountrymusic.com/events/gene-watson-weirsdale-
 9-2026-01-16/
SUMMARY:Gene Watson - Weirsdale
DESCRIPTION:
CATEGORIES:Concerts
LOCATION:Orange Blossom Opry\, 16439 SE 138th Terr\, Weirsdale\, FL\, 32195
 \, United States
GEO:28.982967;-81.922075
X-APPLE-STRUCTURED-LOCATION;VALUE=URI;X-ADDRESS=16439 SE 138th Terr\, Weirs
 dale\, FL\, 32195\, United States;X-APPLE-RADIUS=100;X-TITLE=Orange Blosso
 m Opry:geo:28.982967,-81.922075
END:VEVENT
BEGIN:VTIMEZONE
TZID:America/New_York
X-LIC-LOCATION:America/New_York
BEGIN:STANDARD
DTSTART:20251102T010000
TZOFFSETFROM:-0400
TZOFFSETTO:-0500
TZNAME:EST
END:STANDARD
END:VTIMEZONE
END:VCALENDAR