BEGIN:VCALENDAR
VERSION:2.0
PRODID:-//wp-events-plugin.com//7.2.3.1//EN
TZID:America/New_York
X-WR-TIMEZONE:America/New_York
BEGIN:VEVENT
UID:23138@southfloridacountrymusic.com
DTSTART;TZID=America/New_York:20260205T190000
DTEND;TZID=America/New_York:20260205T190000
DTSTAMP:20260107T034410Z
URL:https://www.southfloridacountrymusic.com/events/gator-country-101-9s-h
 onky-tonk-tailgate-party-north-fort-myers/
SUMMARY:Gator Country 101.9's Honky Tonk Tailgate Party - North Fort Myers
DESCRIPTION:\n 	Jeff Bates\n 	Chad Brock\n 	Robert Stowell\n
ATTACH;FMTTYPE=image/jpeg:https://www.southfloridacountrymusic.com/wp-cont
 ent/uploads/2026/01/0205-1019.jpg
CATEGORIES:Concerts
LOCATION:Sea-Craft Waterfront Tiki\, 3440 Marinatown Lane\, North Fort Myer
 s\, FL\, 33903\, United States
X-APPLE-STRUCTURED-LOCATION;VALUE=URI;X-ADDRESS=3440 Marinatown Lane\, Nort
 h Fort Myers\, FL\, 33903\, United States;X-APPLE-RADIUS=100;X-TITLE=Sea-C
 raft Waterfront Tiki:geo:0,0
END:VEVENT
BEGIN:VTIMEZONE
TZID:America/New_York
X-LIC-LOCATION:America/New_York
BEGIN:STANDARD
DTSTART:20251102T010000
TZOFFSETFROM:-0400
TZOFFSETTO:-0500
TZNAME:EST
END:STANDARD
END:VTIMEZONE
END:VCALENDAR