BEGIN:VCALENDAR
VERSION:2.0
PRODID:-//wp-events-plugin.com//7.2.3.1//EN
TZID:America/New_York
X-WR-TIMEZONE:America/New_York
BEGIN:VEVENT
UID:23559@southfloridacountrymusic.com
DTSTART;TZID=America/New_York:20260424T200000
DTEND;TZID=America/New_York:20260424T200000
DTSTAMP:20260422T233448Z
URL:https://www.southfloridacountrymusic.com/events/gabriel-key-medley/
SUMMARY:Gabriel Key - Medley
DESCRIPTION:
ATTACH;FMTTYPE=image/jpeg:https://www.southfloridacountrymusic.com/wp-cont
 ent/uploads/2024/08/Gabriel-Key-3.jpeg
CATEGORIES:Live Local Music
LOCATION:Carne En Vara Express\, 7300 NW 84th Ave\, Medley\, FL\, United St
 ates
X-APPLE-STRUCTURED-LOCATION;VALUE=URI;X-ADDRESS=7300 NW 84th Ave\, Medley\,
  FL\, United States;X-APPLE-RADIUS=100;X-TITLE=Carne En Vara Express:geo:0
 ,0
END:VEVENT
BEGIN:VTIMEZONE
TZID:America/New_York
X-LIC-LOCATION:America/New_York
BEGIN:DAYLIGHT
DTSTART:20260308T030000
TZOFFSETFROM:-0500
TZOFFSETTO:-0400
TZNAME:EDT
END:DAYLIGHT
END:VTIMEZONE
END:VCALENDAR