BEGIN:VCALENDAR
VERSION:2.0
PRODID:-//wp-events-plugin.com//7.2.3.1//EN
TZID:America/New_York
X-WR-TIMEZONE:America/New_York
BEGIN:VEVENT
UID:23352@southfloridacountrymusic.com
DTSTART;TZID=America/New_York:20260221T200000
DTEND;TZID=America/New_York:20260221T200000
DTSTAMP:20260218T220159Z
URL:https://www.southfloridacountrymusic.com/events/gabriel-key-hollywood-
 4/
SUMMARY:Gabriel Key - Hollywood
DESCRIPTION:
ATTACH;FMTTYPE=image/jpeg:https://www.southfloridacountrymusic.com/wp-cont
 ent/uploads/2024/08/Gabriel-Key-3.jpeg
CATEGORIES:Live Local Music
LOCATION:Hollywood Artwalk\, 1948 Harrison St\, Hollywood\, FL\, 33020\, Un
 ited States
X-APPLE-STRUCTURED-LOCATION;VALUE=URI;X-ADDRESS=1948 Harrison St\, Hollywoo
 d\, FL\, 33020\, United States;X-APPLE-RADIUS=100;X-TITLE=Hollywood Artwal
 k:geo:0,0
END:VEVENT
BEGIN:VTIMEZONE
TZID:America/New_York
X-LIC-LOCATION:America/New_York
BEGIN:STANDARD
DTSTART:20251102T010000
TZOFFSETFROM:-0400
TZOFFSETTO:-0500
TZNAME:EST
END:STANDARD
END:VTIMEZONE
END:VCALENDAR