BEGIN:VCALENDAR
VERSION:2.0
PRODID:-//wp-events-plugin.com//7.2.3.1//EN
TZID:America/New_York
X-WR-TIMEZONE:America/New_York
BEGIN:VEVENT
UID:23254@southfloridacountrymusic.com
DTSTART;TZID=America/New_York:20260123T190000
DTEND;TZID=America/New_York:20260123T190000
DTSTAMP:20260121T225331Z
URL:https://www.southfloridacountrymusic.com/events/gabriel-key-hollywood-
 3/
SUMMARY:Gabriel Key - Hollywood
DESCRIPTION:
ATTACH;FMTTYPE=image/jpeg:https://www.southfloridacountrymusic.com/wp-cont
 ent/uploads/2024/08/Gabriel-Key-3.jpeg
CATEGORIES:Live Local Music
LOCATION:Hollywood Beach Amphitheatre\, 100 Johnson St.\, Hollywood\, FL\, 
 33020\, United States
GEO:26.0195161;-80.11516879999999
X-APPLE-STRUCTURED-LOCATION;VALUE=URI;X-ADDRESS=100 Johnson St.\, Hollywood
 \, FL\, 33020\, United States;X-APPLE-RADIUS=100;X-TITLE=Hollywood Beach A
 mphitheatre:geo:26.0195161,-80.11516879999999
END:VEVENT
BEGIN:VTIMEZONE
TZID:America/New_York
X-LIC-LOCATION:America/New_York
BEGIN:STANDARD
DTSTART:20251102T010000
TZOFFSETFROM:-0400
TZOFFSETTO:-0500
TZNAME:EST
END:STANDARD
END:VTIMEZONE
END:VCALENDAR