BEGIN:VCALENDAR
VERSION:2.0
PRODID:-//wp-events-plugin.com//7.2.3.1//EN
TZID:America/New_York
X-WR-TIMEZONE:America/New_York
BEGIN:VEVENT
UID:22133@southfloridacountrymusic.com
DTSTART;TZID=America/New_York:20260411T193000
DTEND;TZID=America/New_York:20260411T193000
DTSTAMP:20250925T211006Z
URL:https://www.southfloridacountrymusic.com/events/eric-church-ashley-mcb
 ryde-tampa/
SUMMARY:Eric Church\, Ashley McBryde - Tampa
DESCRIPTION:
ATTACH;FMTTYPE=image/jpeg:https://www.southfloridacountrymusic.com/wp-cont
 ent/uploads/2025/09/26-04-11-Eric-Church.jpg
CATEGORIES:Concerts
LOCATION:Benchmark International Arena\, 401 Channelside Dr\, Tampa\, FL\, 
 33602\, United States
X-APPLE-STRUCTURED-LOCATION;VALUE=URI;X-ADDRESS=401 Channelside Dr\, Tampa\
 , FL\, 33602\, United States;X-APPLE-RADIUS=100;X-TITLE=Benchmark Internat
 ional Arena:geo:0,0
END:VEVENT
BEGIN:VTIMEZONE
TZID:America/New_York
X-LIC-LOCATION:America/New_York
BEGIN:DAYLIGHT
DTSTART:20260308T030000
TZOFFSETFROM:-0500
TZOFFSETTO:-0400
TZNAME:EDT
END:DAYLIGHT
END:VTIMEZONE
END:VCALENDAR