BEGIN:VCALENDAR
VERSION:2.0
PRODID:-//wp-events-plugin.com//7.2.3.1//EN
TZID:America/New_York
X-WR-TIMEZONE:America/New_York
BEGIN:VEVENT
UID:23245@southfloridacountrymusic.com
DTSTART;TZID=America/New_York:20260322T193000
DTEND;TZID=America/New_York:20260322T193000
DTSTAMP:20260115T181255Z
URL:https://www.southfloridacountrymusic.com/events/emmylou-harris-palm-be
 ach/
SUMMARY:Emmylou Harris - Palm Beach
DESCRIPTION:Tickets
CATEGORIES:Concerts
LOCATION:Glazer Hall\, 70 Royal Poinciana Way\, Suite P70\, Palm Beach\, FL
 \, 33480\, United States
X-APPLE-STRUCTURED-LOCATION;VALUE=URI;X-ADDRESS=70 Royal Poinciana Way\, Su
 ite P70\, Palm Beach\, FL\, 33480\, United States;X-APPLE-RADIUS=100;X-TIT
 LE=Glazer Hall:geo:0,0
END:VEVENT
BEGIN:VTIMEZONE
TZID:America/New_York
X-LIC-LOCATION:America/New_York
BEGIN:DAYLIGHT
DTSTART:20260308T030000
TZOFFSETFROM:-0500
TZOFFSETTO:-0400
TZNAME:EDT
END:DAYLIGHT
END:VTIMEZONE
END:VCALENDAR