BEGIN:VCALENDAR
VERSION:2.0
PRODID:-//wp-events-plugin.com//7.2.3.1//EN
TZID:America/New_York
X-WR-TIMEZONE:America/New_York
BEGIN:VEVENT
UID:23273@southfloridacountrymusic.com
DTSTART;TZID=America/New_York:20260131T190000
DTEND;TZID=America/New_York:20260131T190000
DTSTAMP:20260128T012622Z
URL:https://www.southfloridacountrymusic.com/events/eli-mosley-sebring/
SUMMARY:Eli Mosley - Sebring
DESCRIPTION:
ATTACH;FMTTYPE=image/jpeg:https://www.southfloridacountrymusic.com/wp-cont
 ent/uploads/2026/01/0131-Eli-Mosley.jpg
CATEGORIES:Live Local Music
LOCATION:Circle Theater\, 202 Circle Park Dr\, Sebring\, FL\, 33870\, Unite
 d States
X-APPLE-STRUCTURED-LOCATION;VALUE=URI;X-ADDRESS=202 Circle Park Dr\, Sebrin
 g\, FL\, 33870\, United States;X-APPLE-RADIUS=100;X-TITLE=Circle Theater:g
 eo:0,0
END:VEVENT
BEGIN:VTIMEZONE
TZID:America/New_York
X-LIC-LOCATION:America/New_York
BEGIN:STANDARD
DTSTART:20251102T010000
TZOFFSETFROM:-0400
TZOFFSETTO:-0500
TZNAME:EST
END:STANDARD
END:VTIMEZONE
END:VCALENDAR