BEGIN:VCALENDAR
VERSION:2.0
PRODID:-//wp-events-plugin.com//7.2.3.1//EN
TZID:America/New_York
X-WR-TIMEZONE:America/New_York
BEGIN:VEVENT
UID:23376@southfloridacountrymusic.com
DTSTART;TZID=America/New_York:20260227T180000
DTEND;TZID=America/New_York:20260227T180000
DTSTAMP:20260226T030805Z
URL:https://www.southfloridacountrymusic.com/events/eli-mosley-lakeland/
SUMMARY:Eli Mosley - Lakeland
DESCRIPTION:Eli Mosley in concert
ATTACH;FMTTYPE=image/jpeg:https://www.southfloridacountrymusic.com/wp-cont
 ent/uploads/2024/09/Eli-Mosley.jpg
CATEGORIES:Live Local Music
LOCATION:Geneva Classical Academy\, 1736 New Jersey Rd\, Lakeland\, FL\, 33
 803\, United States
X-APPLE-STRUCTURED-LOCATION;VALUE=URI;X-ADDRESS=1736 New Jersey Rd\, Lakela
 nd\, FL\, 33803\, United States;X-APPLE-RADIUS=100;X-TITLE=Geneva Classica
 l Academy:geo:0,0
END:VEVENT
BEGIN:VTIMEZONE
TZID:America/New_York
X-LIC-LOCATION:America/New_York
BEGIN:STANDARD
DTSTART:20251102T010000
TZOFFSETFROM:-0400
TZOFFSETTO:-0500
TZNAME:EST
END:STANDARD
END:VTIMEZONE
END:VCALENDAR