BEGIN:VCALENDAR
VERSION:2.0
PRODID:-//wp-events-plugin.com//7.2.3.1//EN
TZID:America/New_York
X-WR-TIMEZONE:America/New_York
BEGIN:VEVENT
UID:23428@southfloridacountrymusic.com
DTSTART;TZID=America/New_York:20260320T190000
DTEND;TZID=America/New_York:20260320T190000
DTSTAMP:20260318T222120Z
URL:https://www.southfloridacountrymusic.com/events/eleni-skiba-wellington
 -2/
SUMMARY:Eleni Skiba - Wellington
DESCRIPTION:With Samantha Russell!
ATTACH;FMTTYPE=image/jpeg:https://www.southfloridacountrymusic.com/wp-cont
 ent/uploads/2024/05/Eleni-05-02-24-1-2.jpeg
CATEGORIES:Live Local Music
LOCATION:Kickback Tavern\, 12771 Forest Hill Blvd\, Wellington\, FL\, 33414
 \, United States
X-APPLE-STRUCTURED-LOCATION;VALUE=URI;X-ADDRESS=12771 Forest Hill Blvd\, We
 llington\, FL\, 33414\, United States;X-APPLE-RADIUS=100;X-TITLE=Kickback 
 Tavern:geo:0,0
END:VEVENT
BEGIN:VTIMEZONE
TZID:America/New_York
X-LIC-LOCATION:America/New_York
BEGIN:DAYLIGHT
DTSTART:20260308T030000
TZOFFSETFROM:-0500
TZOFFSETTO:-0400
TZNAME:EDT
END:DAYLIGHT
END:VTIMEZONE
END:VCALENDAR