BEGIN:VCALENDAR
VERSION:2.0
PRODID:-//wp-events-plugin.com//7.2.3.1//EN
TZID:America/New_York
X-WR-TIMEZONE:America/New_York
BEGIN:VEVENT
UID:23380@southfloridacountrymusic.com
DTSTART;TZID=America/New_York:20260227T180000
DTEND;TZID=America/New_York:20260227T180000
DTSTAMP:20260226T034243Z
URL:https://www.southfloridacountrymusic.com/events/eleni-skiba-stuart/
SUMMARY:Eleni Skiba - Stuart
DESCRIPTION:w/ Miz Behavin'
ATTACH;FMTTYPE=image/jpeg:https://www.southfloridacountrymusic.com/wp-cont
 ent/uploads/2024/05/Eleni-05-02-24-1-2.jpeg
CATEGORIES:Live Local Music
LOCATION:Duke's Bottoms Up Bar & Grill\, 205 SW Monterey Rd\, Stuart\, FL\,
  34994\, United States
X-APPLE-STRUCTURED-LOCATION;VALUE=URI;X-ADDRESS=205 SW Monterey Rd\, Stuart
 \, FL\, 34994\, United States;X-APPLE-RADIUS=100;X-TITLE=Duke's Bottoms Up
  Bar & Grill:geo:0,0
END:VEVENT
BEGIN:VTIMEZONE
TZID:America/New_York
X-LIC-LOCATION:America/New_York
BEGIN:STANDARD
DTSTART:20251102T010000
TZOFFSETFROM:-0400
TZOFFSETTO:-0500
TZNAME:EST
END:STANDARD
END:VTIMEZONE
END:VCALENDAR