BEGIN:VCALENDAR
VERSION:2.0
PRODID:-//wp-events-plugin.com//7.2.3.1//EN
TZID:America/New_York
X-WR-TIMEZONE:America/New_York
BEGIN:VEVENT
UID:23329@southfloridacountrymusic.com
DTSTART;TZID=America/New_York:20260213T200000
DTEND;TZID=America/New_York:20260213T200000
DTSTAMP:20260211T235214Z
URL:https://www.southfloridacountrymusic.com/events/eleni-skiba-stuart-5/
SUMMARY:Eleni Skiba - Stuart
DESCRIPTION:
ATTACH;FMTTYPE=image/jpeg:https://www.southfloridacountrymusic.com/wp-cont
 ent/uploads/2024/05/Eleni-05-02-24-1-2.jpeg
CATEGORIES:Live Local Music
LOCATION:Charlie's Bar & Grill\, 400 SE Parrot Cir\, Stuart\, FL\, 34997\, 
 United States
GEO:27.2805712;-80.28229859999999
X-APPLE-STRUCTURED-LOCATION;VALUE=URI;X-ADDRESS=400 SE Parrot Cir\, Stuart\
 , FL\, 34997\, United States;X-APPLE-RADIUS=100;X-TITLE=Charlie's Bar & Gr
 ill:geo:27.2805712,-80.28229859999999
END:VEVENT
BEGIN:VTIMEZONE
TZID:America/New_York
X-LIC-LOCATION:America/New_York
BEGIN:STANDARD
DTSTART:20251102T010000
TZOFFSETFROM:-0400
TZOFFSETTO:-0500
TZNAME:EST
END:STANDARD
END:VTIMEZONE
END:VCALENDAR