BEGIN:VCALENDAR
VERSION:2.0
PRODID:-//wp-events-plugin.com//7.2.3.1//EN
TZID:America/New_York
X-WR-TIMEZONE:America/New_York
BEGIN:VEVENT
UID:23258@southfloridacountrymusic.com
DTSTART;TZID=America/New_York:20260125T130000
DTEND;TZID=America/New_York:20260125T130000
DTSTAMP:20260121T230617Z
URL:https://www.southfloridacountrymusic.com/events/eleni-skiba-stuart-4/
SUMMARY:Eleni Skiba - Stuart
DESCRIPTION:w/ Miz Behavin'
ATTACH;FMTTYPE=image/jpeg:https://www.southfloridacountrymusic.com/wp-cont
 ent/uploads/2024/05/Eleni-05-02-24-1-2.jpeg
CATEGORIES:Live Local Music
LOCATION:Rockin' Riverwalk Music Series\, Downtown Stuart\, Stuart\, FL\, 3
 4994\, United States
GEO:27.2115288;-80.2617449
X-APPLE-STRUCTURED-LOCATION;VALUE=URI;X-ADDRESS=Downtown Stuart\, Stuart\, 
 FL\, 34994\, United States;X-APPLE-RADIUS=100;X-TITLE=Rockin' Riverwalk Mu
 sic Series:geo:27.2115288,-80.2617449
END:VEVENT
BEGIN:VTIMEZONE
TZID:America/New_York
X-LIC-LOCATION:America/New_York
BEGIN:STANDARD
DTSTART:20251102T010000
TZOFFSETFROM:-0400
TZOFFSETTO:-0500
TZNAME:EST
END:STANDARD
END:VTIMEZONE
END:VCALENDAR