BEGIN:VCALENDAR
VERSION:2.0
PRODID:-//wp-events-plugin.com//7.2.3.1//EN
TZID:America/New_York
X-WR-TIMEZONE:America/New_York
BEGIN:VEVENT
UID:22392@southfloridacountrymusic.com
DTSTART;TZID=America/New_York:20260104T170000
DTEND;TZID=America/New_York:20260104T170000
DTSTAMP:20260101T035609Z
URL:https://www.southfloridacountrymusic.com/events/eleni-skiba-lake-worth
 -4/
SUMMARY:Eleni Skiba - Lake Worth
DESCRIPTION:w/ Samantha Russell!
ATTACH;FMTTYPE=image/jpeg:https://www.southfloridacountrymusic.com/wp-cont
 ent/uploads/2024/05/Eleni-05-02-24-1-2.jpeg
CATEGORIES:Live Local Music
LOCATION:The Bamboo Room\, 25 S J St\, Lake Worth\, FL\, 33460\, United Sta
 tes
X-APPLE-STRUCTURED-LOCATION;VALUE=URI;X-ADDRESS=25 S J St\, Lake Worth\, FL
 \, 33460\, United States;X-APPLE-RADIUS=100;X-TITLE=The Bamboo Room:geo:0,
 0
END:VEVENT
BEGIN:VTIMEZONE
TZID:America/New_York
X-LIC-LOCATION:America/New_York
BEGIN:STANDARD
DTSTART:20251102T010000
TZOFFSETFROM:-0400
TZOFFSETTO:-0500
TZNAME:EST
END:STANDARD
END:VTIMEZONE
END:VCALENDAR