BEGIN:VCALENDAR
VERSION:2.0
PRODID:-//wp-events-plugin.com//7.2.3.1//EN
TZID:America/New_York
X-WR-TIMEZONE:America/New_York
BEGIN:VEVENT
UID:23316@southfloridacountrymusic.com
DTSTART;TZID=America/New_York:20260208T140000
DTEND;TZID=America/New_York:20260208T140000
DTSTAMP:20260204T221228Z
URL:https://www.southfloridacountrymusic.com/events/eleni-skiba-jupiter-12
 /
SUMMARY:Eleni Skiba - Jupiter
DESCRIPTION:w/ Samantha Russell!
ATTACH;FMTTYPE=image/jpeg:https://www.southfloridacountrymusic.com/wp-cont
 ent/uploads/2024/05/Eleni-05-02-24-1-2.jpeg
CATEGORIES:Live Local Music
LOCATION:Guanabanas Island Restaurant & Bar\, 960 N A1A\, Jupiter\, FL\, 33
 477\, United States
GEO:26.9425747;-80.08050150000003
X-APPLE-STRUCTURED-LOCATION;VALUE=URI;X-ADDRESS=960 N A1A\, Jupiter\, FL\, 
 33477\, United States;X-APPLE-RADIUS=100;X-TITLE=Guanabanas Island Restaur
 ant & Bar:geo:26.9425747,-80.08050150000003
END:VEVENT
BEGIN:VTIMEZONE
TZID:America/New_York
X-LIC-LOCATION:America/New_York
BEGIN:STANDARD
DTSTART:20251102T010000
TZOFFSETFROM:-0400
TZOFFSETTO:-0500
TZNAME:EST
END:STANDARD
END:VTIMEZONE
END:VCALENDAR