BEGIN:VCALENDAR
VERSION:2.0
PRODID:-//wp-events-plugin.com//7.2.3.1//EN
TZID:America/New_York
X-WR-TIMEZONE:America/New_York
BEGIN:VEVENT
UID:22393@southfloridacountrymusic.com
DTSTART;TZID=America/New_York:20260106T180000
DTEND;TZID=America/New_York:20260106T180000
DTSTAMP:20260101T040555Z
URL:https://www.southfloridacountrymusic.com/events/eleni-skiba-jupiter-11
 /
SUMMARY:Eleni Skiba - Jupiter
DESCRIPTION:w/ Samantha Russell!
ATTACH;FMTTYPE=image/jpeg:https://www.southfloridacountrymusic.com/wp-cont
 ent/uploads/2024/05/Eleni-05-02-24-1-2.jpeg
CATEGORIES:Live Local Music
LOCATION:Tiki 52\, 18487  SE Federal Hwy\, Jupiter\, FL\, 33469\, United St
 ates
GEO:26.978731;-80.08939699999996
X-APPLE-STRUCTURED-LOCATION;VALUE=URI;X-ADDRESS=18487  SE Federal Hwy\, Jup
 iter\, FL\, 33469\, United States;X-APPLE-RADIUS=100;X-TITLE=Tiki 52:geo:2
 6.978731,-80.08939699999996
END:VEVENT
BEGIN:VTIMEZONE
TZID:America/New_York
X-LIC-LOCATION:America/New_York
BEGIN:STANDARD
DTSTART:20251102T010000
TZOFFSETFROM:-0400
TZOFFSETTO:-0500
TZNAME:EST
END:STANDARD
END:VTIMEZONE
END:VCALENDAR