BEGIN:VCALENDAR
VERSION:2.0
PRODID:-//wp-events-plugin.com//7.2.3.1//EN
TZID:America/New_York
X-WR-TIMEZONE:America/New_York
BEGIN:VEVENT
UID:23521@southfloridacountrymusic.com
DTSTART;TZID=America/New_York:20260411T130000
DTEND;TZID=America/New_York:20260411T130000
DTSTAMP:20260408T220831Z
URL:https://www.southfloridacountrymusic.com/events/eleni-skiba-jensen-bea
 ch-5/
SUMMARY:Eleni Skiba - Jensen Beach
DESCRIPTION:w/ Miz Behavin'
ATTACH;FMTTYPE=image/jpeg:https://www.southfloridacountrymusic.com/wp-cont
 ent/uploads/2024/05/Eleni-05-02-24-1-2.jpeg
CATEGORIES:Live Local Music
LOCATION:Conchy Joe's\, 3945 NE Indian River Dr\, Jensen Beach\, FL\, 34957
 \, United States
X-APPLE-STRUCTURED-LOCATION;VALUE=URI;X-ADDRESS=3945 NE Indian River Dr\, J
 ensen Beach\, FL\, 34957\, United States;X-APPLE-RADIUS=100;X-TITLE=Conchy
  Joe's:geo:0,0
END:VEVENT
BEGIN:VTIMEZONE
TZID:America/New_York
X-LIC-LOCATION:America/New_York
BEGIN:DAYLIGHT
DTSTART:20260308T030000
TZOFFSETFROM:-0500
TZOFFSETTO:-0400
TZNAME:EDT
END:DAYLIGHT
END:VTIMEZONE
END:VCALENDAR