BEGIN:VCALENDAR
VERSION:2.0
PRODID:-//wp-events-plugin.com//7.2.3.1//EN
TZID:America/New_York
X-WR-TIMEZONE:America/New_York
BEGIN:VEVENT
UID:23244@southfloridacountrymusic.com
DTSTART;TZID=America/New_York:20260116T180000
DTEND;TZID=America/New_York:20260116T180000
DTSTAMP:20260115T024826Z
URL:https://www.southfloridacountrymusic.com/events/eleni-skiba-hobe-sound
 -4/
SUMMARY:Eleni Skiba - Hobe Sound
DESCRIPTION:w/ Miz Behavin'
ATTACH;FMTTYPE=image/jpeg:https://www.southfloridacountrymusic.com/wp-cont
 ent/uploads/2024/05/Eleni-05-02-24-1-2.jpeg
CATEGORIES:Live Local Music
LOCATION:Harry & The Natives\, 11910 SE Federal Hwy\, Hobe Sound\, FL\, 334
 55\, United States
GEO:27.0588469;-80.13689299999999
X-APPLE-STRUCTURED-LOCATION;VALUE=URI;X-ADDRESS=11910 SE Federal Hwy\, Hobe
  Sound\, FL\, 33455\, United States;X-APPLE-RADIUS=100;X-TITLE=Harry & The
  Natives:geo:27.0588469,-80.13689299999999
END:VEVENT
BEGIN:VTIMEZONE
TZID:America/New_York
X-LIC-LOCATION:America/New_York
BEGIN:STANDARD
DTSTART:20251102T010000
TZOFFSETFROM:-0400
TZOFFSETTO:-0500
TZNAME:EST
END:STANDARD
END:VTIMEZONE
END:VCALENDAR