BEGIN:VCALENDAR
VERSION:2.0
PRODID:-//wp-events-plugin.com//7.2.3.1//EN
TZID:America/New_York
X-WR-TIMEZONE:America/New_York
BEGIN:VEVENT
UID:23137@southfloridacountrymusic.com
DTSTART;TZID=America/New_York:20260116T190000
DTEND;TZID=America/New_York:20260116T190000
DTSTAMP:20260104T233735Z
URL:https://www.southfloridacountrymusic.com/events/easton-corbin-holiday/
SUMMARY:Easton Corbin - Holiday
DESCRIPTION:
ATTACH;FMTTYPE=image/jpeg:https://www.southfloridacountrymusic.com/wp-cont
 ent/uploads/2026/01/0116-Easton-Corbin.jpg
CATEGORIES:Concerts
LOCATION:The Stockyard\, 1916 US 19\, Holiday\, FL\, 34691\, United States
GEO:28.1866314;-82.7398154
X-APPLE-STRUCTURED-LOCATION;VALUE=URI;X-ADDRESS=1916 US 19\, Holiday\, FL\,
  34691\, United States;X-APPLE-RADIUS=100;X-TITLE=The Stockyard:geo:28.186
 6314,-82.7398154
END:VEVENT
BEGIN:VTIMEZONE
TZID:America/New_York
X-LIC-LOCATION:America/New_York
BEGIN:STANDARD
DTSTART:20251102T010000
TZOFFSETFROM:-0400
TZOFFSETTO:-0500
TZNAME:EST
END:STANDARD
END:VTIMEZONE
END:VCALENDAR