BEGIN:VCALENDAR
VERSION:2.0
PRODID:-//wp-events-plugin.com//7.2.3.1//EN
TZID:America/New_York
X-WR-TIMEZONE:America/New_York
BEGIN:VEVENT
UID:23249@southfloridacountrymusic.com
DTSTART;TZID=America/New_York:20260328T180000
DTEND;TZID=America/New_York:20260328T180000
DTSTAMP:20260116T180315Z
URL:https://www.southfloridacountrymusic.com/events/drake-milligan-sarasot
 a/
SUMMARY:Drake Milligan - Sarasota
DESCRIPTION:
ATTACH;FMTTYPE=image/jpeg:https://www.southfloridacountrymusic.com/wp-cont
 ent/uploads/2026/01/0328-Drake-Milligan.jpg
CATEGORIES:Concerts
LOCATION:Joyland - The Country Junction\, 8333 Lockwood Ridge Rd\, Sarasota
 \, FL\, United States
X-APPLE-STRUCTURED-LOCATION;VALUE=URI;X-ADDRESS=8333 Lockwood Ridge Rd\, Sa
 rasota\, FL\, United States;X-APPLE-RADIUS=100;X-TITLE=Joyland - The Count
 ry Junction:geo:0,0
END:VEVENT
BEGIN:VTIMEZONE
TZID:America/New_York
X-LIC-LOCATION:America/New_York
BEGIN:DAYLIGHT
DTSTART:20260308T030000
TZOFFSETFROM:-0500
TZOFFSETTO:-0400
TZNAME:EDT
END:DAYLIGHT
END:VTIMEZONE
END:VCALENDAR