BEGIN:VCALENDAR
VERSION:2.0
PRODID:-//wp-events-plugin.com//7.2.3.1//EN
TZID:America/New_York
X-WR-TIMEZONE:America/New_York
BEGIN:VEVENT
UID:23250@southfloridacountrymusic.com
DTSTART;TZID=America/New_York:20260329T200000
DTEND;TZID=America/New_York:20260329T200000
DTSTAMP:20260116T182310Z
URL:https://www.southfloridacountrymusic.com/events/drake-milligan-sanford
 /
SUMMARY:Drake Milligan - Sanford
DESCRIPTION:
ATTACH;FMTTYPE=image/jpeg:https://www.southfloridacountrymusic.com/wp-cont
 ent/uploads/2026/01/0329-Drake-Milligan.jpg
CATEGORIES:Concerts
LOCATION:Tuffy's Music Box\, 200 Myrtle Ave\, Sanford\, FL\, 32771\, United
  States
X-APPLE-STRUCTURED-LOCATION;VALUE=URI;X-ADDRESS=200 Myrtle Ave\, Sanford\, 
 FL\, 32771\, United States;X-APPLE-RADIUS=100;X-TITLE=Tuffy's Music Box:ge
 o:0,0
END:VEVENT
BEGIN:VTIMEZONE
TZID:America/New_York
X-LIC-LOCATION:America/New_York
BEGIN:DAYLIGHT
DTSTART:20260308T030000
TZOFFSETFROM:-0500
TZOFFSETTO:-0400
TZNAME:EDT
END:DAYLIGHT
END:VTIMEZONE
END:VCALENDAR