BEGIN:VCALENDAR
VERSION:2.0
PRODID:-//wp-events-plugin.com//7.2.3.1//EN
TZID:America/New_York
X-WR-TIMEZONE:America/New_York
BEGIN:VEVENT
UID:22188@southfloridacountrymusic.com
DTSTART;TZID=America/New_York:20260307T203000
DTEND;TZID=America/New_York:20260307T203000
DTSTAMP:20251017T174650Z
URL:https://www.southfloridacountrymusic.com/events/darius-rucker-fort-lau
 derdale/
SUMMARY:Darius Rucker - Fort Lauderdale
DESCRIPTION:
ATTACH;FMTTYPE=image/jpeg:https://www.southfloridacountrymusic.com/wp-cont
 ent/uploads/2025/10/0307-Darius-Rucker.webp
CATEGORIES:Concerts
LOCATION:Broward Center\, 201 SW 5th Ave\, Ft. Lauderdale\, FL\, 33312\, Un
 ited States
GEO:26.1198743;-80.14926960000003
X-APPLE-STRUCTURED-LOCATION;VALUE=URI;X-ADDRESS=201 SW 5th Ave\, Ft. Lauder
 dale\, FL\, 33312\, United States;X-APPLE-RADIUS=100;X-TITLE=Broward Cente
 r:geo:26.1198743,-80.14926960000003
END:VEVENT
BEGIN:VTIMEZONE
TZID:America/New_York
X-LIC-LOCATION:America/New_York
BEGIN:STANDARD
DTSTART:20251102T010000
TZOFFSETFROM:-0400
TZOFFSETTO:-0500
TZNAME:EST
END:STANDARD
END:VTIMEZONE
END:VCALENDAR