BEGIN:VCALENDAR
VERSION:2.0
PRODID:-//wp-events-plugin.com//7.2.3.1//EN
TZID:America/New_York
X-WR-TIMEZONE:America/New_York
BEGIN:VEVENT
UID:23239@southfloridacountrymusic.com
DTSTART;TZID=America/New_York:20260418T193000
DTEND;TZID=America/New_York:20260418T193000
DTSTAMP:20260114T173231Z
URL:https://www.southfloridacountrymusic.com/events/crystal-gayle-ponte-ve
 dra-beach-2/
SUMMARY:Crystal Gayle - Ponte Vedra Beach
DESCRIPTION:
ATTACH;FMTTYPE=image/jpeg:https://www.southfloridacountrymusic.com/wp-cont
 ent/uploads/2025/07/0408-Crystal-Gayle.webp
CATEGORIES:Concerts
LOCATION:Ponte Vedra Concert Hall\, 1050 A1A N\, Ponte Vedra Beach\, FL\, 3
 2082\, United States
GEO:30.1673087;-81.3692719
X-APPLE-STRUCTURED-LOCATION;VALUE=URI;X-ADDRESS=1050 A1A N\, Ponte Vedra Be
 ach\, FL\, 32082\, United States;X-APPLE-RADIUS=100;X-TITLE=Ponte Vedra Co
 ncert Hall:geo:30.1673087,-81.3692719
END:VEVENT
BEGIN:VTIMEZONE
TZID:America/New_York
X-LIC-LOCATION:America/New_York
BEGIN:DAYLIGHT
DTSTART:20260308T030000
TZOFFSETFROM:-0500
TZOFFSETTO:-0400
TZNAME:EDT
END:DAYLIGHT
END:VTIMEZONE
END:VCALENDAR